BEGIN:VCALENDAR
VERSION:2.0
PRODID:-//pretalx//pretalx.jdll.org//jdll2026//talk//TZXT8J
BEGIN:VTIMEZONE
TZID:CET
BEGIN:STANDARD
DTSTART:20001029T040000
RRULE:FREQ=YEARLY;BYDAY=-1SU;BYMONTH=10
TZNAME:CET
TZOFFSETFROM:+0200
TZOFFSETTO:+0100
END:STANDARD
BEGIN:DAYLIGHT
DTSTART:20000326T030000
RRULE:FREQ=YEARLY;BYDAY=-1SU;BYMONTH=3
TZNAME:CEST
TZOFFSETFROM:+0100
TZOFFSETTO:+0200
END:DAYLIGHT
END:VTIMEZONE
BEGIN:VEVENT
UID:pretalx-jdll2026-TZXT8J@pretalx.jdll.org
DTSTART;TZID=CET:20260531T110000
DTEND;TZID=CET:20260531T115500
DESCRIPTION:Après avoir retrouvé la sérénité l'année dernière\, notr
 e Épicerie reprend sa route vers la pérennité
DTSTAMP:20260420T175346Z
LOCATION:Conf 5 - D2.034
SUMMARY:La Melting Coop\, l'Épicerie coopérative et participative lyonnai
 se - La Melting Coop
URL:https://pretalx.jdll.org/jdll2026/talk/TZXT8J/
END:VEVENT
END:VCALENDAR
