BEGIN:VCALENDAR
VERSION:2.0
PRODID:-//pretalx//pretalx.jdll.org//jdll2026//talk//RDKQW9
BEGIN:VTIMEZONE
TZID:CET
BEGIN:STANDARD
DTSTART:20001029T040000
RRULE:FREQ=YEARLY;BYDAY=-1SU;BYMONTH=10
TZNAME:CET
TZOFFSETFROM:+0200
TZOFFSETTO:+0100
END:STANDARD
BEGIN:DAYLIGHT
DTSTART:20000326T030000
RRULE:FREQ=YEARLY;BYDAY=-1SU;BYMONTH=3
TZNAME:CEST
TZOFFSETFROM:+0100
TZOFFSETTO:+0200
END:DAYLIGHT
END:VTIMEZONE
BEGIN:VEVENT
UID:pretalx-jdll2026-RDKQW9@pretalx.jdll.org
DTSTART;TZID=CET:20260531T150000
DTEND;TZID=CET:20260531T155500
DESCRIPTION:Présentation de l'outil d'automatisation Ansible
DTSTAMP:20260420T180853Z
LOCATION:Conf 3 - D2.018
SUMMARY:Ansible : Starter Pack - HS-157
URL:https://pretalx.jdll.org/jdll2026/talk/RDKQW9/
END:VEVENT
END:VCALENDAR
