BEGIN:VCALENDAR
VERSION:2.0
PRODID:-//pretalx//pretalx.jdll.org//jdll2026//talk//PLYS7Y
BEGIN:VTIMEZONE
TZID:CET
BEGIN:STANDARD
DTSTART:20001029T040000
RRULE:FREQ=YEARLY;BYDAY=-1SU;BYMONTH=10
TZNAME:CET
TZOFFSETFROM:+0200
TZOFFSETTO:+0100
END:STANDARD
BEGIN:DAYLIGHT
DTSTART:20000326T030000
RRULE:FREQ=YEARLY;BYDAY=-1SU;BYMONTH=3
TZNAME:CEST
TZOFFSETFROM:+0100
TZOFFSETTO:+0200
END:DAYLIGHT
END:VTIMEZONE
BEGIN:VEVENT
UID:pretalx-jdll2026-PLYS7Y@pretalx.jdll.org
DTSTART;TZID=CET:20260530T170000
DTEND;TZID=CET:20260530T175500
DESCRIPTION:DTT projet en développement\, HandlebarsJS mais c'est des temp
 late Django. C'est le turfu.
DTSTAMP:20260420T175313Z
LOCATION:Conf 3 - D2.018
SUMMARY:Handlebars\, mais c'est mes templates Django - Christophe Henry
URL:https://pretalx.jdll.org/jdll2026/talk/PLYS7Y/
END:VEVENT
END:VCALENDAR
