BEGIN:VCALENDAR
VERSION:2.0
PRODID:-//pretalx//pretalx.jdll.org//jdll2026//talk//LRASDU
BEGIN:VTIMEZONE
TZID:CET
BEGIN:STANDARD
DTSTART:20001029T040000
RRULE:FREQ=YEARLY;BYDAY=-1SU;BYMONTH=10
TZNAME:CET
TZOFFSETFROM:+0200
TZOFFSETTO:+0100
END:STANDARD
BEGIN:DAYLIGHT
DTSTART:20000326T030000
RRULE:FREQ=YEARLY;BYDAY=-1SU;BYMONTH=3
TZNAME:CEST
TZOFFSETFROM:+0100
TZOFFSETTO:+0200
END:DAYLIGHT
END:VTIMEZONE
BEGIN:VEVENT
UID:pretalx-jdll2026-LRASDU@pretalx.jdll.org
DTSTART;TZID=CET:20260530T130000
DTEND;TZID=CET:20260530T135500
DESCRIPTION:Partageons le rôle historique\, présent et futur de l'Open So
 urce dans la transition énergétique.
DTSTAMP:20260420T175102Z
LOCATION:Conf 5 - D2.034
SUMMARY:Open Source pour la transition énergétique\, une histoire en deve
 nir - bdolley
URL:https://pretalx.jdll.org/jdll2026/talk/LRASDU/
END:VEVENT
END:VCALENDAR
