BEGIN:VCALENDAR
VERSION:2.0
PRODID:-//pretalx//pretalx.jdll.org//jdll2026//talk//HGAC97
BEGIN:VTIMEZONE
TZID:CET
BEGIN:STANDARD
DTSTART:20001029T040000
RRULE:FREQ=YEARLY;BYDAY=-1SU;BYMONTH=10
TZNAME:CET
TZOFFSETFROM:+0200
TZOFFSETTO:+0100
END:STANDARD
BEGIN:DAYLIGHT
DTSTART:20000326T030000
RRULE:FREQ=YEARLY;BYDAY=-1SU;BYMONTH=3
TZNAME:CEST
TZOFFSETFROM:+0100
TZOFFSETTO:+0200
END:DAYLIGHT
END:VTIMEZONE
BEGIN:VEVENT
UID:pretalx-jdll2026-HGAC97@pretalx.jdll.org
DTSTART;TZID=CET:20260530T160000
DTEND;TZID=CET:20260530T175500
DESCRIPTION:Pour progresser avec Vim sur le chemin de l’éveil.
DTSTAMP:20260420T175313Z
LOCATION:Atelier 2 - D2.115
SUMMARY:tupperVim - :kazé
URL:https://pretalx.jdll.org/jdll2026/talk/HGAC97/
END:VEVENT
END:VCALENDAR
