BEGIN:VCALENDAR
VERSION:2.0
PRODID:-//pretalx//pretalx.jdll.org//jdll2026//talk//FQK8WZ
BEGIN:VTIMEZONE
TZID:CET
BEGIN:STANDARD
DTSTART:20001029T040000
RRULE:FREQ=YEARLY;BYDAY=-1SU;BYMONTH=10
TZNAME:CET
TZOFFSETFROM:+0200
TZOFFSETTO:+0100
END:STANDARD
BEGIN:DAYLIGHT
DTSTART:20000326T030000
RRULE:FREQ=YEARLY;BYDAY=-1SU;BYMONTH=3
TZNAME:CEST
TZOFFSETFROM:+0100
TZOFFSETTO:+0200
END:DAYLIGHT
END:VTIMEZONE
BEGIN:VEVENT
UID:pretalx-jdll2026-FQK8WZ@pretalx.jdll.org
DTSTART;TZID=CET:20260530T150000
DTEND;TZID=CET:20260530T155500
DESCRIPTION:L’union libre du Quacken et du TypeMatrix 2030.
DTSTAMP:20260420T175356Z
LOCATION:Conf 6 - D2.117
SUMMARY:QuackMatrix 2040 - :kazé
URL:https://pretalx.jdll.org/jdll2026/talk/FQK8WZ/
END:VEVENT
END:VCALENDAR
