BEGIN:VCALENDAR
VERSION:2.0
PRODID:-//pretalx//pretalx.jdll.org//jdll2026//talk//FLXDNH
BEGIN:VTIMEZONE
TZID:CET
BEGIN:STANDARD
DTSTART:20001029T040000
RRULE:FREQ=YEARLY;BYDAY=-1SU;BYMONTH=10
TZNAME:CET
TZOFFSETFROM:+0200
TZOFFSETTO:+0100
END:STANDARD
BEGIN:DAYLIGHT
DTSTART:20000326T030000
RRULE:FREQ=YEARLY;BYDAY=-1SU;BYMONTH=3
TZNAME:CEST
TZOFFSETFROM:+0100
TZOFFSETTO:+0200
END:DAYLIGHT
END:VTIMEZONE
BEGIN:VEVENT
UID:pretalx-jdll2026-FLXDNH@pretalx.jdll.org
DTSTART;TZID=CET:20260531T110000
DTEND;TZID=CET:20260531T125500
DESCRIPTION:Atelier collectif d'utilisation de LibraZiK Linux et d'explorat
 ion de création artistique musicale
DTSTAMP:20260420T175233Z
LOCATION:Atelier 2 - D2.115
SUMMARY:Viens ziker\, et faire groover LibraZiK\, le libre se raconte en mu
 sique\, on a 2 jours pour créer - Olivier HUMBERT\, Nicolas FAURE
URL:https://pretalx.jdll.org/jdll2026/talk/FLXDNH/
END:VEVENT
END:VCALENDAR
