BEGIN:VCALENDAR
VERSION:2.0
PRODID:-//pretalx//pretalx.jdll.org//jdll2026//talk//ENSXF8
BEGIN:VTIMEZONE
TZID:CET
BEGIN:STANDARD
DTSTART:20001029T040000
RRULE:FREQ=YEARLY;BYDAY=-1SU;BYMONTH=10
TZNAME:CET
TZOFFSETFROM:+0200
TZOFFSETTO:+0100
END:STANDARD
BEGIN:DAYLIGHT
DTSTART:20000326T030000
RRULE:FREQ=YEARLY;BYDAY=-1SU;BYMONTH=3
TZNAME:CEST
TZOFFSETFROM:+0100
TZOFFSETTO:+0200
END:DAYLIGHT
END:VTIMEZONE
BEGIN:VEVENT
UID:pretalx-jdll2026-ENSXF8@pretalx.jdll.org
DTSTART;TZID=CET:20260531T140000
DTEND;TZID=CET:20260531T145500
DESCRIPTION:Découvrez l'histoire d'OCaml\, un langage de programmation fon
 ctionnel libre.
DTSTAMP:20260420T175345Z
LOCATION:Conf 2 - D2.004
SUMMARY:30 ans d'OCaml\, un langage libre pour écrire des logiciels. - Flo
 rian Angeletti
URL:https://pretalx.jdll.org/jdll2026/talk/ENSXF8/
END:VEVENT
END:VCALENDAR
