BEGIN:VCALENDAR
VERSION:2.0
PRODID:-//pretalx//pretalx.jdll.org//jdll2026//talk//EFLGDX
BEGIN:VTIMEZONE
TZID:CET
BEGIN:STANDARD
DTSTART:20001029T040000
RRULE:FREQ=YEARLY;BYDAY=-1SU;BYMONTH=10
TZNAME:CET
TZOFFSETFROM:+0200
TZOFFSETTO:+0100
END:STANDARD
BEGIN:DAYLIGHT
DTSTART:20000326T030000
RRULE:FREQ=YEARLY;BYDAY=-1SU;BYMONTH=3
TZNAME:CEST
TZOFFSETFROM:+0100
TZOFFSETTO:+0200
END:DAYLIGHT
END:VTIMEZONE
BEGIN:VEVENT
UID:pretalx-jdll2026-EFLGDX@pretalx.jdll.org
DTSTART;TZID=CET:20260530T170000
DTEND;TZID=CET:20260530T175500
DESCRIPTION:Un atelier pour vous réapproprier YunoHost et l'adapter à vos
  besoins ou ceux de votre collectif.
DTSTAMP:20260420T175325Z
LOCATION:Atelier 1 - D2.104
SUMMARY:YunoHost : quitter les plateformes du capitalisme de surveillance\,
  en pratique ! - YunoHost
URL:https://pretalx.jdll.org/jdll2026/talk/EFLGDX/
END:VEVENT
END:VCALENDAR
