BEGIN:VCALENDAR
VERSION:2.0
PRODID:-//pretalx//pretalx.jdll.org//jdll2026//speaker//ZNTCDT
BEGIN:VTIMEZONE
TZID:CET
BEGIN:STANDARD
DTSTART:20001029T040000
RRULE:FREQ=YEARLY;BYDAY=-1SU;BYMONTH=10
TZNAME:CET
TZOFFSETFROM:+0200
TZOFFSETTO:+0100
END:STANDARD
BEGIN:DAYLIGHT
DTSTART:20000326T030000
RRULE:FREQ=YEARLY;BYDAY=-1SU;BYMONTH=3
TZNAME:CEST
TZOFFSETFROM:+0100
TZOFFSETTO:+0200
END:DAYLIGHT
END:VTIMEZONE
BEGIN:VEVENT
UID:pretalx-jdll2026-V37JXY@pretalx.jdll.org
DTSTART;TZID=CET:20260530T100000
DTEND;TZID=CET:20260530T105500
DESCRIPTION:Découvrez une implémentation IMAP moderne: code reactif\, str
 uctures optimisées et histoires réseau !
DTSTAMP:20260420T161313Z
LOCATION:Conf 3 - D2.018
SUMMARY:Apache James : ouvrez le capot d’une implémentation IMAP qui dé
 pote ! - TELLIER Benoit
URL:https://pretalx.jdll.org/jdll2026/talk/V37JXY/
END:VEVENT
END:VCALENDAR
