BEGIN:VCALENDAR
VERSION:2.0
PRODID:-//pretalx//pretalx.jdll.org//jdll2026//speaker//Z7PBLU
BEGIN:VTIMEZONE
TZID:CET
BEGIN:STANDARD
DTSTART:20001029T040000
RRULE:FREQ=YEARLY;BYDAY=-1SU;BYMONTH=10
TZNAME:CET
TZOFFSETFROM:+0200
TZOFFSETTO:+0100
END:STANDARD
BEGIN:DAYLIGHT
DTSTART:20000326T030000
RRULE:FREQ=YEARLY;BYDAY=-1SU;BYMONTH=3
TZNAME:CEST
TZOFFSETFROM:+0100
TZOFFSETTO:+0200
END:DAYLIGHT
END:VTIMEZONE
BEGIN:VEVENT
UID:pretalx-jdll2026-WXLNLG@pretalx.jdll.org
DTSTART;TZID=CET:20260530T170000
DTEND;TZID=CET:20260530T175500
DESCRIPTION:Échange entre autrices de (science)-fiction sur les futurs dé
 sirables
DTSTAMP:20260420T161319Z
LOCATION:Conf 1 - Amphi Descartes
SUMMARY:Table Ronde Intergalactiques - JdLL : Menaces dystopiques\, resista
 nce numérique - Elise Bonnard\, Lizzie Crowdagger
URL:https://pretalx.jdll.org/jdll2026/talk/WXLNLG/
END:VEVENT
END:VCALENDAR
