BEGIN:VCALENDAR
VERSION:2.0
PRODID:-//pretalx//pretalx.jdll.org//jdll2026//speaker//VZL9MC
BEGIN:VTIMEZONE
TZID:CET
BEGIN:STANDARD
DTSTART:20001029T040000
RRULE:FREQ=YEARLY;BYDAY=-1SU;BYMONTH=10
TZNAME:CET
TZOFFSETFROM:+0200
TZOFFSETTO:+0100
END:STANDARD
BEGIN:DAYLIGHT
DTSTART:20000326T030000
RRULE:FREQ=YEARLY;BYDAY=-1SU;BYMONTH=3
TZNAME:CEST
TZOFFSETFROM:+0100
TZOFFSETTO:+0200
END:DAYLIGHT
END:VTIMEZONE
BEGIN:VEVENT
UID:pretalx-jdll2026-KHTKUN@pretalx.jdll.org
DTSTART;TZID=CET:20260530T110000
DTEND;TZID=CET:20260530T115500
DESCRIPTION:foopgp : Mission et innovations (monnaie libre\, OpenPGP ID\, D
 jibian).
DTSTAMP:20260420T161319Z
LOCATION:Conf 3 - D2.018
SUMMARY:Djibian : Prenez en main votre avenir numérique avec OpenPGP. - fo
 opgp
URL:https://pretalx.jdll.org/jdll2026/talk/KHTKUN/
END:VEVENT
BEGIN:VEVENT
UID:pretalx-jdll2026-8BQAHR@pretalx.jdll.org
DTSTART;TZID=CET:20260530T120000
DTEND;TZID=CET:20260530T125500
DESCRIPTION:Donnez naissance à votre identité OpenPGP ID\, et repartez av
 ec votre YubiKey ou NitroKey configurée.
DTSTAMP:20260420T161319Z
LOCATION:Atelier 2 - D2.115
SUMMARY:Sécurisez vos données avec les clés de sécurité OpenPGP (YubiK
 ey\, NitroKey). - foopgp
URL:https://pretalx.jdll.org/jdll2026/talk/8BQAHR/
END:VEVENT
END:VCALENDAR
