BEGIN:VCALENDAR
VERSION:2.0
PRODID:-//pretalx//pretalx.jdll.org//jdll2026//speaker//SFA7DS
BEGIN:VTIMEZONE
TZID:CET
BEGIN:STANDARD
DTSTART:20001029T040000
RRULE:FREQ=YEARLY;BYDAY=-1SU;BYMONTH=10
TZNAME:CET
TZOFFSETFROM:+0200
TZOFFSETTO:+0100
END:STANDARD
BEGIN:DAYLIGHT
DTSTART:20000326T030000
RRULE:FREQ=YEARLY;BYDAY=-1SU;BYMONTH=3
TZNAME:CEST
TZOFFSETFROM:+0100
TZOFFSETTO:+0200
END:DAYLIGHT
END:VTIMEZONE
BEGIN:VEVENT
UID:pretalx-jdll2026-FLJKPY@pretalx.jdll.org
DTSTART;TZID=CET:20260530T170000
DTEND;TZID=CET:20260530T175500
DESCRIPTION:Un moment de partage autour des initiatives des solidarité dan
 s le domaine de l'informatique.
DTSTAMP:20260420T161256Z
LOCATION:Conf 4 - D2.020
SUMMARY:Histoires d'une informatique qui lutte. - Solidaires Informatique
URL:https://pretalx.jdll.org/jdll2026/talk/FLJKPY/
END:VEVENT
BEGIN:VEVENT
UID:pretalx-jdll2026-NWKY9M@pretalx.jdll.org
DTSTART;TZID=CET:20260531T140000
DTEND;TZID=CET:20260531T145500
DESCRIPTION:Quelle usage souhaité pour les outils et services proposés pa
 r les technologies numériques ?
DTSTAMP:20260420T161256Z
LOCATION:Conf 4 - D2.020
SUMMARY:Autogestion et numérique - Solidaires Informatique
URL:https://pretalx.jdll.org/jdll2026/talk/NWKY9M/
END:VEVENT
BEGIN:VEVENT
UID:pretalx-jdll2026-FPJCV9@pretalx.jdll.org
DTSTART;TZID=CET:20260531T160000
DTEND;TZID=CET:20260531T165500
DESCRIPTION:Viens rencontre le syndicat pour parler de ton travail
DTSTAMP:20260420T161256Z
LOCATION:Conf 7 - D2.128
SUMMARY:Discussions avec le syndicat - Solidaires Informatique
URL:https://pretalx.jdll.org/jdll2026/talk/FPJCV9/
END:VEVENT
END:VCALENDAR
