BEGIN:VCALENDAR
VERSION:2.0
PRODID:-//pretalx//pretalx.jdll.org//jdll2026//speaker//NYNSUU
BEGIN:VTIMEZONE
TZID:CET
BEGIN:STANDARD
DTSTART:20001029T040000
RRULE:FREQ=YEARLY;BYDAY=-1SU;BYMONTH=10
TZNAME:CET
TZOFFSETFROM:+0200
TZOFFSETTO:+0100
END:STANDARD
BEGIN:DAYLIGHT
DTSTART:20000326T030000
RRULE:FREQ=YEARLY;BYDAY=-1SU;BYMONTH=3
TZNAME:CEST
TZOFFSETFROM:+0100
TZOFFSETTO:+0200
END:DAYLIGHT
END:VTIMEZONE
BEGIN:VEVENT
UID:pretalx-jdll2026-7NEXAW@pretalx.jdll.org
DTSTART;TZID=CET:20260530T120000
DTEND;TZID=CET:20260530T125500
DESCRIPTION:Nous allons présenter Tableaunoir puis discuter des évolution
 s possibles.
DTSTAMP:20260420T161528Z
LOCATION:Conf 2 - D2.004
SUMMARY:Tableaunoir : un tableau noir interactif pour expliquer des idées 
 - François Schwarzentruber
URL:https://pretalx.jdll.org/jdll2026/talk/7NEXAW/
END:VEVENT
BEGIN:VEVENT
UID:pretalx-jdll2026-M3Y838@pretalx.jdll.org
DTSTART;TZID=CET:20260530T150000
DTEND;TZID=CET:20260530T155500
DESCRIPTION:Nous discuterons le nouveau langage ABCD\, pour écrire des par
 titions musicales.
DTSTAMP:20260420T161528Z
LOCATION:Atelier 1 - D2.104
SUMMARY:Yet another language for music score: ABCD - François Schwarzentru
 ber
URL:https://pretalx.jdll.org/jdll2026/talk/M3Y838/
END:VEVENT
END:VCALENDAR
