BEGIN:VCALENDAR
VERSION:2.0
PRODID:-//pretalx//pretalx.jdll.org//jdll2026//speaker//NVCDFS
BEGIN:VTIMEZONE
TZID:CET
BEGIN:STANDARD
DTSTART:20001029T040000
RRULE:FREQ=YEARLY;BYDAY=-1SU;BYMONTH=10
TZNAME:CET
TZOFFSETFROM:+0200
TZOFFSETTO:+0100
END:STANDARD
BEGIN:DAYLIGHT
DTSTART:20000326T030000
RRULE:FREQ=YEARLY;BYDAY=-1SU;BYMONTH=3
TZNAME:CEST
TZOFFSETFROM:+0100
TZOFFSETTO:+0200
END:DAYLIGHT
END:VTIMEZONE
BEGIN:VEVENT
UID:pretalx-jdll2026-HHVLZX@pretalx.jdll.org
DTSTART;TZID=CET:20260530T110000
DTEND;TZID=CET:20260530T115500
DESCRIPTION:Découvre Vikidia\, et rend accessible un article pour les 8-13
  ans\, peu importe ton âge !
DTSTAMP:20260420T160834Z
LOCATION:Atelier 2 - D2.115
SUMMARY:Vikidia c'est toi ! Rédige un article accessible pour le Wikipédi
 a des 8-13 ans ! - Antoine Cannafarina
URL:https://pretalx.jdll.org/jdll2026/talk/HHVLZX/
END:VEVENT
END:VCALENDAR
