BEGIN:VCALENDAR
VERSION:2.0
PRODID:-//pretalx//pretalx.jdll.org//jdll2026//speaker//KBWVLU
BEGIN:VTIMEZONE
TZID:CET
BEGIN:STANDARD
DTSTART:20001029T040000
RRULE:FREQ=YEARLY;BYDAY=-1SU;BYMONTH=10
TZNAME:CET
TZOFFSETFROM:+0200
TZOFFSETTO:+0100
END:STANDARD
BEGIN:DAYLIGHT
DTSTART:20000326T030000
RRULE:FREQ=YEARLY;BYDAY=-1SU;BYMONTH=3
TZNAME:CEST
TZOFFSETFROM:+0100
TZOFFSETTO:+0200
END:DAYLIGHT
END:VTIMEZONE
BEGIN:VEVENT
UID:pretalx-jdll2026-BMCQZX@pretalx.jdll.org
DTSTART;TZID=CET:20260530T130000
DTEND;TZID=CET:20260530T135500
DESCRIPTION:Le campus du libre\, un reflet du numérique éthique dans l'en
 seignement et la recherche.
DTSTAMP:20260420T161031Z
LOCATION:Conf 4 - D2.020
SUMMARY:Présentation du Campus du Libre - Guillemette TROGNOT
URL:https://pretalx.jdll.org/jdll2026/talk/BMCQZX/
END:VEVENT
END:VCALENDAR
