BEGIN:VCALENDAR
VERSION:2.0
PRODID:-//pretalx//pretalx.jdll.org//jdll2026//speaker//JMPBQU
BEGIN:VTIMEZONE
TZID:CET
BEGIN:STANDARD
DTSTART:20001029T040000
RRULE:FREQ=YEARLY;BYDAY=-1SU;BYMONTH=10
TZNAME:CET
TZOFFSETFROM:+0200
TZOFFSETTO:+0100
END:STANDARD
BEGIN:DAYLIGHT
DTSTART:20000326T030000
RRULE:FREQ=YEARLY;BYDAY=-1SU;BYMONTH=3
TZNAME:CEST
TZOFFSETFROM:+0100
TZOFFSETTO:+0200
END:DAYLIGHT
END:VTIMEZONE
BEGIN:VEVENT
UID:pretalx-jdll2026-KLSSMP@pretalx.jdll.org
DTSTART;TZID=CET:20260531T140000
DTEND;TZID=CET:20260531T145500
DESCRIPTION:Depuis 2021\, Échirolles a entamé un joyeux passage au libre.
  5 ans d'anecdotes amusantes et utiles !
DTSTAMP:20260420T161321Z
LOCATION:Conf 1 - Amphi Descartes
SUMMARY:Échi(rock'n)rolles : 5 ans de passage au libre dans la bonne humeu
 r ! - Nicolas Vivant
URL:https://pretalx.jdll.org/jdll2026/talk/KLSSMP/
END:VEVENT
END:VCALENDAR
