BEGIN:VCALENDAR
VERSION:2.0
PRODID:-//pretalx//pretalx.jdll.org//jdll2026//speaker//JAM8QF
BEGIN:VTIMEZONE
TZID:CET
BEGIN:STANDARD
DTSTART:20001029T040000
RRULE:FREQ=YEARLY;BYDAY=-1SU;BYMONTH=10
TZNAME:CET
TZOFFSETFROM:+0200
TZOFFSETTO:+0100
END:STANDARD
BEGIN:DAYLIGHT
DTSTART:20000326T030000
RRULE:FREQ=YEARLY;BYDAY=-1SU;BYMONTH=3
TZNAME:CEST
TZOFFSETFROM:+0100
TZOFFSETTO:+0200
END:DAYLIGHT
END:VTIMEZONE
BEGIN:VEVENT
UID:pretalx-jdll2026-CHVKEU@pretalx.jdll.org
DTSTART;TZID=CET:20260531T120000
DTEND;TZID=CET:20260531T125500
DESCRIPTION:Une solution libre  pour gérer les charges\, les lots\, les pr
 opriétaires et les assemblées générales.
DTSTAMP:20260420T161117Z
LOCATION:Conf 5 - D2.034
SUMMARY:Open Copro - Damien Renou
URL:https://pretalx.jdll.org/jdll2026/talk/CHVKEU/
END:VEVENT
END:VCALENDAR
