BEGIN:VCALENDAR
VERSION:2.0
PRODID:-//pretalx//pretalx.jdll.org//jdll2026//speaker//HJWGPK
BEGIN:VTIMEZONE
TZID:CET
BEGIN:STANDARD
DTSTART:20001029T040000
RRULE:FREQ=YEARLY;BYDAY=-1SU;BYMONTH=10
TZNAME:CET
TZOFFSETFROM:+0200
TZOFFSETTO:+0100
END:STANDARD
BEGIN:DAYLIGHT
DTSTART:20000326T030000
RRULE:FREQ=YEARLY;BYDAY=-1SU;BYMONTH=3
TZNAME:CEST
TZOFFSETFROM:+0100
TZOFFSETTO:+0200
END:DAYLIGHT
END:VTIMEZONE
BEGIN:VEVENT
UID:pretalx-jdll2026-WTGMQC@pretalx.jdll.org
DTSTART;TZID=CET:20260531T140000
DTEND;TZID=CET:20260531T145500
DESCRIPTION:Passez un moment convivial au son de chansons françaises sous 
 licence libre !
DTSTAMP:20260420T161313Z
LOCATION:Parvis D7
SUMMARY:Concert Musique Libre KPTN - KPTN
URL:https://pretalx.jdll.org/jdll2026/talk/WTGMQC/
END:VEVENT
END:VCALENDAR
