BEGIN:VCALENDAR
VERSION:2.0
PRODID:-//pretalx//pretalx.jdll.org//jdll2026//speaker//EELLHG
BEGIN:VTIMEZONE
TZID:CET
BEGIN:STANDARD
DTSTART:20001029T040000
RRULE:FREQ=YEARLY;BYDAY=-1SU;BYMONTH=10
TZNAME:CET
TZOFFSETFROM:+0200
TZOFFSETTO:+0100
END:STANDARD
BEGIN:DAYLIGHT
DTSTART:20000326T030000
RRULE:FREQ=YEARLY;BYDAY=-1SU;BYMONTH=3
TZNAME:CEST
TZOFFSETFROM:+0100
TZOFFSETTO:+0200
END:DAYLIGHT
END:VTIMEZONE
BEGIN:VEVENT
UID:pretalx-jdll2026-QAHG3A@pretalx.jdll.org
DTSTART;TZID=CET:20260530T120000
DTEND;TZID=CET:20260530T125500
DESCRIPTION:Découvrez PeerTube\, un logiciel permettant de créer une plat
 eforme vidéo respectueuse.
DTSTAMP:20260420T161110Z
LOCATION:Conf 1 - Amphi Descartes
SUMMARY:PeerTube : une plateforme vidéo qui vous respecte - Booteille
URL:https://pretalx.jdll.org/jdll2026/talk/QAHG3A/
END:VEVENT
END:VCALENDAR
