BEGIN:VCALENDAR
VERSION:2.0
PRODID:-//pretalx//pretalx.jdll.org//jdll2026//speaker//E9Y8HT
BEGIN:VTIMEZONE
TZID:CET
BEGIN:STANDARD
DTSTART:20001029T040000
RRULE:FREQ=YEARLY;BYDAY=-1SU;BYMONTH=10
TZNAME:CET
TZOFFSETFROM:+0200
TZOFFSETTO:+0100
END:STANDARD
BEGIN:DAYLIGHT
DTSTART:20000326T030000
RRULE:FREQ=YEARLY;BYDAY=-1SU;BYMONTH=3
TZNAME:CEST
TZOFFSETFROM:+0100
TZOFFSETTO:+0200
END:DAYLIGHT
END:VTIMEZONE
BEGIN:VEVENT
UID:pretalx-jdll2026-A3MPXZ@pretalx.jdll.org
DTSTART;TZID=CET:20260531T160000
DTEND;TZID=CET:20260531T165500
DESCRIPTION:Plateforme libre de transcription\, sous-titrage\, et résumés
 . Présentation et démo en direct.
DTSTAMP:20260420T161156Z
LOCATION:Conf 4 - D2.020
SUMMARY:LinTO Studio : transcription\, sous-titrage et résumé par l'IA\, 
 100% open source - Tom
URL:https://pretalx.jdll.org/jdll2026/talk/A3MPXZ/
END:VEVENT
END:VCALENDAR
