BEGIN:VCALENDAR
VERSION:2.0
PRODID:-//pretalx//pretalx.jdll.org//jdll2026//speaker//DVTA9J
BEGIN:VTIMEZONE
TZID:CET
BEGIN:STANDARD
DTSTART:20001029T040000
RRULE:FREQ=YEARLY;BYDAY=-1SU;BYMONTH=10
TZNAME:CET
TZOFFSETFROM:+0200
TZOFFSETTO:+0100
END:STANDARD
BEGIN:DAYLIGHT
DTSTART:20000326T030000
RRULE:FREQ=YEARLY;BYDAY=-1SU;BYMONTH=3
TZNAME:CEST
TZOFFSETFROM:+0100
TZOFFSETTO:+0200
END:DAYLIGHT
END:VTIMEZONE
BEGIN:VEVENT
UID:pretalx-jdll2026-WWBACP@pretalx.jdll.org
DTSTART;TZID=CET:20260530T143000
DTEND;TZID=CET:20260530T165500
DESCRIPTION:Une promenade à l'affût des singularités du quartier\, colle
 cte de données libres accessible à tous
DTSTAMP:20260420T161417Z
LOCATION:Hall D2
SUMMARY:Cartopartie : venez décrire les environs avec OpenStreetMap et Wik
 imedia ! - Groupes Locaux OpenStreetMap et Wikimedia
URL:https://pretalx.jdll.org/jdll2026/talk/WWBACP/
END:VEVENT
END:VCALENDAR
