BEGIN:VCALENDAR
VERSION:2.0
PRODID:-//pretalx//pretalx.jdll.org//jdll2026//speaker//DL8LVW
BEGIN:VTIMEZONE
TZID:CET
BEGIN:STANDARD
DTSTART:20001029T040000
RRULE:FREQ=YEARLY;BYDAY=-1SU;BYMONTH=10
TZNAME:CET
TZOFFSETFROM:+0200
TZOFFSETTO:+0100
END:STANDARD
BEGIN:DAYLIGHT
DTSTART:20000326T030000
RRULE:FREQ=YEARLY;BYDAY=-1SU;BYMONTH=3
TZNAME:CEST
TZOFFSETFROM:+0100
TZOFFSETTO:+0200
END:DAYLIGHT
END:VTIMEZONE
BEGIN:VEVENT
UID:pretalx-jdll2026-JCJLVW@pretalx.jdll.org
DTSTART;TZID=CET:20260531T110000
DTEND;TZID=CET:20260531T115500
DESCRIPTION:Présentation du modèle C4 et comment on l'a intégré dans la
  conception des DAT
DTSTAMP:20260420T161320Z
LOCATION:Conf 2 - D2.004
SUMMARY:L'avenir de l'architecte est-il dans le code ? - JF Mourgues\, Bapt
 iste
URL:https://pretalx.jdll.org/jdll2026/talk/JCJLVW/
END:VEVENT
END:VCALENDAR
