BEGIN:VCALENDAR
VERSION:2.0
PRODID:-//pretalx//pretalx.jdll.org//jdll2026//speaker//DHE3KD
BEGIN:VTIMEZONE
TZID:CET
BEGIN:STANDARD
DTSTART:20001029T040000
RRULE:FREQ=YEARLY;BYDAY=-1SU;BYMONTH=10
TZNAME:CET
TZOFFSETFROM:+0200
TZOFFSETTO:+0100
END:STANDARD
BEGIN:DAYLIGHT
DTSTART:20000326T030000
RRULE:FREQ=YEARLY;BYDAY=-1SU;BYMONTH=3
TZNAME:CEST
TZOFFSETFROM:+0100
TZOFFSETTO:+0200
END:DAYLIGHT
END:VTIMEZONE
BEGIN:VEVENT
UID:pretalx-jdll2026-ELFAXV@pretalx.jdll.org
DTSTART;TZID=CET:20260530T170000
DTEND;TZID=CET:20260530T175500
DESCRIPTION:Gérer une association avec le logiciel *Diacamma*: de la deman
 de d'adhésion au reçu fiscal
DTSTAMP:20260420T161410Z
LOCATION:Conf 6 - D2.117
SUMMARY:Diacamma: gérer une association entre bénévoles ... comme des pr
 os - Laurent Gay
URL:https://pretalx.jdll.org/jdll2026/talk/ELFAXV/
END:VEVENT
END:VCALENDAR
