BEGIN:VCALENDAR
VERSION:2.0
PRODID:-//pretalx//pretalx.jdll.org//jdll2026//speaker//8TDCFV
BEGIN:VTIMEZONE
TZID:CET
BEGIN:STANDARD
DTSTART:20001029T040000
RRULE:FREQ=YEARLY;BYDAY=-1SU;BYMONTH=10
TZNAME:CET
TZOFFSETFROM:+0200
TZOFFSETTO:+0100
END:STANDARD
BEGIN:DAYLIGHT
DTSTART:20000326T030000
RRULE:FREQ=YEARLY;BYDAY=-1SU;BYMONTH=3
TZNAME:CEST
TZOFFSETFROM:+0100
TZOFFSETTO:+0200
END:DAYLIGHT
END:VTIMEZONE
BEGIN:VEVENT
UID:pretalx-jdll2026-HXHTMS@pretalx.jdll.org
DTSTART;TZID=CET:20260531T110000
DTEND;TZID=CET:20260531T115500
DESCRIPTION:Comment décrire au mieux les communs numériques ? Ne faut-il 
 pas prendre en compte les organisations
DTSTAMP:20260420T161156Z
LOCATION:Conf 1 - Amphi Descartes
SUMMARY:Communs numériques : une ressource\, une communauté… et une or
 ganisation ? - Valérian Guillier
URL:https://pretalx.jdll.org/jdll2026/talk/HXHTMS/
END:VEVENT
END:VCALENDAR
