BEGIN:VCALENDAR
VERSION:2.0
PRODID:-//pretalx//pretalx.jdll.org//jdll2026//speaker//8JPZW7
BEGIN:VTIMEZONE
TZID:CET
BEGIN:STANDARD
DTSTART:20001029T040000
RRULE:FREQ=YEARLY;BYDAY=-1SU;BYMONTH=10
TZNAME:CET
TZOFFSETFROM:+0200
TZOFFSETTO:+0100
END:STANDARD
BEGIN:DAYLIGHT
DTSTART:20000326T030000
RRULE:FREQ=YEARLY;BYDAY=-1SU;BYMONTH=3
TZNAME:CEST
TZOFFSETFROM:+0100
TZOFFSETTO:+0200
END:DAYLIGHT
END:VTIMEZONE
BEGIN:VEVENT
UID:pretalx-jdll2026-ZN9YA3@pretalx.jdll.org
DTSTART;TZID=CET:20260531T120000
DTEND;TZID=CET:20260531T125500
DESCRIPTION:Quels sont nos vécus en tant que contributeur‧ices LGBTQIA+ 
 dans le mouvement des logiciels libres ?
DTSTAMP:20260420T161432Z
LOCATION:Conf 6 - D2.117
SUMMARY:Groupe de parole en non-mixité LGBTQIA+ - Océane
URL:https://pretalx.jdll.org/jdll2026/talk/ZN9YA3/
END:VEVENT
BEGIN:VEVENT
UID:pretalx-jdll2026-HLF8GQ@pretalx.jdll.org
DTSTART;TZID=CET:20260531T150000
DTEND;TZID=CET:20260531T155500
DESCRIPTION:À l’origine de _Surveiller et punir_\, le travail sur les id
 entités d’Erving Goffman.
DTSTAMP:20260420T161432Z
LOCATION:Conf 5 - D2.034
SUMMARY:Surveiller et punir : notes sur la surveillance de masse\, et sur
  les logiciels privateurs - Océane
URL:https://pretalx.jdll.org/jdll2026/talk/HLF8GQ/
END:VEVENT
END:VCALENDAR
