BEGIN:VCALENDAR
VERSION:2.0
PRODID:-//pretalx//pretalx.jdll.org//jdll2026//speaker//8JGSUS
BEGIN:VTIMEZONE
TZID:CET
BEGIN:STANDARD
DTSTART:20001029T040000
RRULE:FREQ=YEARLY;BYDAY=-1SU;BYMONTH=10
TZNAME:CET
TZOFFSETFROM:+0200
TZOFFSETTO:+0100
END:STANDARD
BEGIN:DAYLIGHT
DTSTART:20000326T030000
RRULE:FREQ=YEARLY;BYDAY=-1SU;BYMONTH=3
TZNAME:CEST
TZOFFSETFROM:+0100
TZOFFSETTO:+0200
END:DAYLIGHT
END:VTIMEZONE
BEGIN:VEVENT
UID:pretalx-jdll2026-8WTUUS@pretalx.jdll.org
DTSTART;TZID=CET:20260531T130000
DTEND;TZID=CET:20260531T135500
DESCRIPTION:Montrer que l’on peut diagnostiquer voire réparer un apparei
 l\, sans démonter\, avec de la méthode.
DTSTAMP:20260420T161111Z
LOCATION:Conf 7 - D2.128
SUMMARY:Réparation électroménager sans démontage - Ludovic BERTRAND
URL:https://pretalx.jdll.org/jdll2026/talk/8WTUUS/
END:VEVENT
END:VCALENDAR
