BEGIN:VCALENDAR
VERSION:2.0
PRODID:-//pretalx//pretalx.jdll.org//jdll2026//speaker//8CRDRC
BEGIN:VTIMEZONE
TZID:CET
BEGIN:STANDARD
DTSTART:20001029T040000
RRULE:FREQ=YEARLY;BYDAY=-1SU;BYMONTH=10
TZNAME:CET
TZOFFSETFROM:+0200
TZOFFSETTO:+0100
END:STANDARD
BEGIN:DAYLIGHT
DTSTART:20000326T030000
RRULE:FREQ=YEARLY;BYDAY=-1SU;BYMONTH=3
TZNAME:CEST
TZOFFSETFROM:+0100
TZOFFSETTO:+0200
END:DAYLIGHT
END:VTIMEZONE
BEGIN:VEVENT
UID:pretalx-jdll2026-DREUUE@pretalx.jdll.org
DTSTART;TZID=CET:20260531T150000
DTEND;TZID=CET:20260531T165500
DESCRIPTION:Très peu de démocratie et beaucoup de souffrance\, dans le mo
 nde du travail ? Conférence gesticulée.
DTSTAMP:20260420T161431Z
LOCATION:Conf 6 - D2.117
SUMMARY:Il n'y a pas de petit harcèlement - Laurent Bossavit
URL:https://pretalx.jdll.org/jdll2026/talk/DREUUE/
END:VEVENT
END:VCALENDAR
