BEGIN:VCALENDAR
VERSION:2.0
PRODID:-//pretalx//pretalx.jdll.org//jdll2026//speaker//8AQCYZ
BEGIN:VTIMEZONE
TZID:CET
BEGIN:STANDARD
DTSTART:20001029T040000
RRULE:FREQ=YEARLY;BYDAY=-1SU;BYMONTH=10
TZNAME:CET
TZOFFSETFROM:+0200
TZOFFSETTO:+0100
END:STANDARD
BEGIN:DAYLIGHT
DTSTART:20000326T030000
RRULE:FREQ=YEARLY;BYDAY=-1SU;BYMONTH=3
TZNAME:CEST
TZOFFSETFROM:+0100
TZOFFSETTO:+0200
END:DAYLIGHT
END:VTIMEZONE
BEGIN:VEVENT
UID:pretalx-jdll2026-9H9DH7@pretalx.jdll.org
DTSTART;TZID=CET:20260531T130000
DTEND;TZID=CET:20260531T135500
DESCRIPTION:Création et coulisses de « La Chaîne Météore »\, BD d'hum
 our libre et artisanale de Gee !
DTSTAMP:20260420T161253Z
LOCATION:Conf 5 - D2.034
SUMMARY:La Chaîne Météore\, une BD libre\, faite avec du libre - Gee
URL:https://pretalx.jdll.org/jdll2026/talk/9H9DH7/
END:VEVENT
BEGIN:VEVENT
UID:pretalx-jdll2026-FFJNPV@pretalx.jdll.org
DTSTART;TZID=CET:20260531T140000
DTEND;TZID=CET:20260531T145500
DESCRIPTION:Comment un blog BD devient accessible avec un peu de CSS et des
  méthodes de production adaptées !
DTSTAMP:20260420T161253Z
LOCATION:Conf 6 - D2.117
SUMMARY:Grise Bouille : de l'a11y dans un blog BD - Gee
URL:https://pretalx.jdll.org/jdll2026/talk/FFJNPV/
END:VEVENT
END:VCALENDAR
