BEGIN:VCALENDAR
VERSION:2.0
PRODID:-//pretalx//pretalx.jdll.org//jdll2026//speaker//89DWDZ
BEGIN:VTIMEZONE
TZID:CET
BEGIN:STANDARD
DTSTART:20001029T040000
RRULE:FREQ=YEARLY;BYDAY=-1SU;BYMONTH=10
TZNAME:CET
TZOFFSETFROM:+0200
TZOFFSETTO:+0100
END:STANDARD
BEGIN:DAYLIGHT
DTSTART:20000326T030000
RRULE:FREQ=YEARLY;BYDAY=-1SU;BYMONTH=3
TZNAME:CEST
TZOFFSETFROM:+0100
TZOFFSETTO:+0200
END:DAYLIGHT
END:VTIMEZONE
BEGIN:VEVENT
UID:pretalx-jdll2026-SYDWQM@pretalx.jdll.org
DTSTART;TZID=CET:20260530T160000
DTEND;TZID=CET:20260530T165500
DESCRIPTION:GrapheneOS : fonctionnement\, usages et enjeux d’un Android a
 xé sécurité et vie privée.
DTSTAMP:20260420T160950Z
LOCATION:Conf 6 - D2.117
SUMMARY:Faut-il être fiché S pour utiliser GraphèneOS ? - Benzo\, Sam Ha
 dow
URL:https://pretalx.jdll.org/jdll2026/talk/SYDWQM/
END:VEVENT
END:VCALENDAR
