BEGIN:VCALENDAR
VERSION:2.0
PRODID:-//pretalx//pretalx.jdll.org//jdll2026//speaker//7J9VM7
BEGIN:VTIMEZONE
TZID:CET
BEGIN:STANDARD
DTSTART:20001029T040000
RRULE:FREQ=YEARLY;BYDAY=-1SU;BYMONTH=10
TZNAME:CET
TZOFFSETFROM:+0200
TZOFFSETTO:+0100
END:STANDARD
BEGIN:DAYLIGHT
DTSTART:20000326T030000
RRULE:FREQ=YEARLY;BYDAY=-1SU;BYMONTH=3
TZNAME:CEST
TZOFFSETFROM:+0100
TZOFFSETTO:+0200
END:DAYLIGHT
END:VTIMEZONE
BEGIN:VEVENT
UID:pretalx-jdll2026-XKRFGC@pretalx.jdll.org
DTSTART;TZID=CET:20260530T150000
DTEND;TZID=CET:20260530T155500
DESCRIPTION:Un collectif de travail sans lien de subordination\, c'est à l
 a fois enthousiasmant et pas facile !
DTSTAMP:20260420T161255Z
LOCATION:Conf 4 - D2.020
SUMMARY:Ni ESN\, ni Start-up\, 10 ans de joies et peines d'une coopérative
  ! - Julie Brillet\, Thomas G.
URL:https://pretalx.jdll.org/jdll2026/talk/XKRFGC/
END:VEVENT
END:VCALENDAR
